BEGIN:VCALENDAR
VERSION:2.0
PRODID:-//eventon.com NONSGML v1.0//EN
CALSCALE:GREGORIAN
METHOD:PUBLISH
BEGIN:VEVENT
UID:69ea031598c69
DTSTAMP:20260423T113133Z
DTSTART:20230621T130000Z
DTEND:20230621T215900Z
LOCATION:Zahnarztpraxis Dr. Henrik-Christian Hollay 94 Albert-Roßhaupter-Straße\,  81369 München
SUMMARY:ETHOSS - FORTBILDUNGSREIHE in MÜNCHEN mit Dr. Hollay 2023
DESCRIPTION:ETHOSS &#8211; FORTBILDUNGSREIHE BIOLOGISCHE KNOCHENREGENERATIO
 N # KLINISCHE FALLBEISPIELE UND DISKUSSIONEN VON KOLLEGEN # WELCHE ROLLE SP
 IELT KALZIUMSULFAT? # DEN KÖRPER HEILEN LASSEN # LIVE-OP &nbsp; WATCH IT G
 ROW ß-TriKalciumphosphatmaterialien gab es in der Vergangenheit bereits re
 ichlich. Mit Prof. Dr. Peter Fairbairn an der Spitze der technischen Weiter
 entwicklung konnte ein erfahrener[..]\nhttps://zantomed.de/events/ethoss-fo
 rtbildungsreihe-in-muenchen-mit-dr-hollay/
URL:https://zantomed.de/events/ethoss-fortbildungsreihe-in-muenchen-mit-dr-hollay/
END:VEVENT
END:VCALENDAR