BEGIN:VCALENDAR
VERSION:2.0
PRODID:-//eventon.com NONSGML v1.0//EN
CALSCALE:GREGORIAN
METHOD:PUBLISH
BEGIN:VEVENT
UID:69eb72edc300a
DTSTAMP:20260424T134101Z
DTSTART:20261127
DTEND:20261128
LOCATION:
SUMMARY:Implant expo 2026 in Hamburg: Fachmesse für dentale Implantologie
DESCRIPTION:Die Implant expo 2026 ist die internationale Fachmesse für den
 tale Implantologie und findet vom 27. bis 28. November 2026 im CCH Hamburg 
 statt. Als spezialisierter Treffpunkt der Dental-Branche bringt die Messe H
 ersteller\,  Fachbesucher\,  Praxis\,  Labor und Industrie zusammen. Im Mit
 telpunkt stehen neue Produkte\,  innovative Lösungen und der fachliche Aus
 tausch rund[..]\nhttps://zantomed.de/events/implant-expo-2026-in-hamburg-fa
 chmesse-fuer-dentale-implantologie/
URL:https://zantomed.de/events/implant-expo-2026-in-hamburg-fachmesse-fuer-dentale-implantologie/
END:VEVENT
END:VCALENDAR